BEGIN:VCALENDAR
VERSION:2.0
PRODID:-//Siskiyou Land Trust - ECPv6.15.20//NONSGML v1.0//EN
CALSCALE:GREGORIAN
METHOD:PUBLISH
X-WR-CALNAME:Siskiyou Land Trust
X-ORIGINAL-URL:https://www.siskiyoulandtrust.org
X-WR-CALDESC:Events for Siskiyou Land Trust
REFRESH-INTERVAL;VALUE=DURATION:PT1H
X-Robots-Tag:noindex
X-PUBLISHED-TTL:PT1H
BEGIN:VTIMEZONE
TZID:America/Los_Angeles
BEGIN:DAYLIGHT
TZOFFSETFROM:-0800
TZOFFSETTO:-0700
TZNAME:PDT
DTSTART:20250309T100000
END:DAYLIGHT
BEGIN:STANDARD
TZOFFSETFROM:-0700
TZOFFSETTO:-0800
TZNAME:PST
DTSTART:20251102T090000
END:STANDARD
BEGIN:DAYLIGHT
TZOFFSETFROM:-0800
TZOFFSETTO:-0700
TZNAME:PDT
DTSTART:20260308T100000
END:DAYLIGHT
BEGIN:STANDARD
TZOFFSETFROM:-0700
TZOFFSETTO:-0800
TZNAME:PST
DTSTART:20261101T090000
END:STANDARD
BEGIN:DAYLIGHT
TZOFFSETFROM:-0800
TZOFFSETTO:-0700
TZNAME:PDT
DTSTART:20270314T100000
END:DAYLIGHT
BEGIN:STANDARD
TZOFFSETFROM:-0700
TZOFFSETTO:-0800
TZNAME:PST
DTSTART:20271107T090000
END:STANDARD
END:VTIMEZONE
BEGIN:VEVENT
DTSTART;TZID=America/Los_Angeles:20260311T090000
DTEND;TZID=America/Los_Angeles:20260311T120000
DTSTAMP:20260420T131649
CREATED:20260304T185128Z
LAST-MODIFIED:20260304T185235Z
UID:8708-1773219600-1773230400@www.siskiyoulandtrust.org
SUMMARY:Grass Lake Nature Walk
DESCRIPTION:Grass Lake Nature Walk\n\n\n\n\n\nJoin Siskiyou Land Trust Conservation Director\, Alexis Robertson and Stewardship Manager\, Laura Bradley for an upcoming walk to Grass Lake off of Hwy 97. Grass Lake is one of Siskiyou Land Trust’s newest acquisition projects to protect this special landscape forever. Plan on approximately 2-3 miles of easy walking and wildlife viewing. \n\n\n\n\n\n\nClick here to reserve your spot!
URL:https://www.siskiyoulandtrust.org/event/grass-lake-nature-walk/
CATEGORIES:Nature Walk Series
ATTACH;FMTTYPE=image/jpeg:https://www.siskiyoulandtrust.org/wp-content/uploads/2026/02/Egret-at-Grass-Lake-e1771962313176.jpg
ORGANIZER;CN="Laura Bradley":MAILTO:laurabradley@siskiyoulandtrust.org
END:VEVENT
END:VCALENDAR