BEGIN:VCALENDAR
VERSION:2.0
PRODID:-//Siskiyou Land Trust - ECPv6.15.20//NONSGML v1.0//EN
CALSCALE:GREGORIAN
METHOD:PUBLISH
X-ORIGINAL-URL:https://www.siskiyoulandtrust.org
X-WR-CALDESC:Events for Siskiyou Land Trust
REFRESH-INTERVAL;VALUE=DURATION:PT1H
X-Robots-Tag:noindex
X-PUBLISHED-TTL:PT1H
BEGIN:VTIMEZONE
TZID:America/Los_Angeles
BEGIN:DAYLIGHT
TZOFFSETFROM:-0800
TZOFFSETTO:-0700
TZNAME:PDT
DTSTART:20250309T100000
END:DAYLIGHT
BEGIN:STANDARD
TZOFFSETFROM:-0700
TZOFFSETTO:-0800
TZNAME:PST
DTSTART:20251102T090000
END:STANDARD
BEGIN:DAYLIGHT
TZOFFSETFROM:-0800
TZOFFSETTO:-0700
TZNAME:PDT
DTSTART:20260308T100000
END:DAYLIGHT
BEGIN:STANDARD
TZOFFSETFROM:-0700
TZOFFSETTO:-0800
TZNAME:PST
DTSTART:20261101T090000
END:STANDARD
BEGIN:DAYLIGHT
TZOFFSETFROM:-0800
TZOFFSETTO:-0700
TZNAME:PDT
DTSTART:20270314T100000
END:DAYLIGHT
BEGIN:STANDARD
TZOFFSETFROM:-0700
TZOFFSETTO:-0800
TZNAME:PST
DTSTART:20271107T090000
END:STANDARD
END:VTIMEZONE
BEGIN:VEVENT
DTSTART;TZID=America/Los_Angeles:20260415T090000
DTEND;TZID=America/Los_Angeles:20260415T120000
DTSTAMP:20260425T033132
CREATED:20260407T205313Z
LAST-MODIFIED:20260410T201735Z
UID:8742-1776243600-1776254400@www.siskiyoulandtrust.org
SUMMARY:Yreka Phlox Walk
DESCRIPTION:Yreka Phlox Walk\n\n\n\nPhoto by Kristin Davis.\n\n\n\n\n\nJoin us on a botanical Nature Walk to view the endangered and endemic Yreka Phlox! SLT Stewardship Manager\, Laura Bradley\, and Habitat Restoration Biologist\, Jennifer Silveira\, will lead this tour of Siskiyou Land Trust’s China Hill Phlox Preserve. This property was specifically acquired to protect the endangered Yreka Phlox. We will be looking at wildflowers as well as birds on this short stroll\, so don’t forget your binoculars! \n\n\n\nPlan on walking 1.5 – 2.0 miles on loose gravel roads with approximately 200 feet of total elevation gain. \n\n\n\nRegistration is required for this free event. Meeting spot will be emailed to those who are registered. \n\n\n\n\nSign up here!
URL:https://www.siskiyoulandtrust.org/event/yreka-phlox-walk/
CATEGORIES:Nature Walk Series
ATTACH;FMTTYPE=image/jpeg:https://www.siskiyoulandtrust.org/wp-content/uploads/2026/04/20230428_112012-e1776453463563.jpg
ORGANIZER;CN="Laura Bradley":MAILTO:laurabradley@siskiyoulandtrust.org
END:VEVENT
BEGIN:VEVENT
DTSTART;TZID=America/Los_Angeles:20260418T090000
DTEND;TZID=America/Los_Angeles:20260418T120000
DTSTAMP:20260425T033132
CREATED:20260417T215954Z
LAST-MODIFIED:20260417T223724Z
UID:8771-1776502800-1776513600@www.siskiyoulandtrust.org
SUMMARY:Friends of the Meadow Season Kickoff 4/15 & 4/18
DESCRIPTION:Friends of the Meadow Season Kickoff 4/15 & 4/18\n\n\n\n\n\nSpring is here and it’s time to get weeding! Join CCAC fellows and other community members for upcoming volunteer days. \n\n\n\nFriends of the Meadow will meet in Sisson Meadow Wednesday\, April 15\, and Saturday\, April 18\, and every Wednesday from 9am-12pm. \n\n\n\nFor more info\, contact Anna Smegal\, annasmegal@siskiyoulandtrust.org.
URL:https://www.siskiyoulandtrust.org/event/friends-of-the-meadow-season-kickoff/
CATEGORIES:CA Climate Action Corps Event,Volunteer Days
ATTACH;FMTTYPE=image/jpeg:https://www.siskiyoulandtrust.org/wp-content/uploads/2024/08/Sisson-Meadow-Weed-Pull-group-with-sign-July-24.jpg
END:VEVENT
BEGIN:VEVENT
DTSTART;TZID=America/Los_Angeles:20260424T000000
DTEND;TZID=America/Los_Angeles:20260427T235959
DTSTAMP:20260425T033132
CREATED:20260417T223113Z
LAST-MODIFIED:20260417T223143Z
UID:8776-1776988800-1777334399@www.siskiyoulandtrust.org
SUMMARY:iNaturalist City Nature Challenge
DESCRIPTION:Join Siskiyou Land Trust for the iNaturalist City Nature Challenge! \n\n\n\nHelp document the incredible biodiversity of Siskiyou County by contributing your observations to the iNaturalist app during this global community science event. \n\n\n\nThe City Nature Challenge (CNC) is the world’s largest community science project\, and Siskiyou County is part of it! From April 24-27\, 2026\, every plant\, animal\, or fungust you observe and upload through the iNaturalist app will count toward our region’s total. \n\n\n\nWhether you’re a seasoned naturalist or just curious about the world around you\, anyone can participate. Explore your backyard\, a local trail\, or your favorite outdoor spot. Every observation matters. \n\n\n\nThis is also a great opportunity for classrooms\, families\, and visitors to get involved\, with real-time results visible both locally and globally. \n\n\n\nGet started and learn more: \n\n\n\nhttps://www.inaturalist.org/projects/city-nature-challenge-2026-siskiyou-county-california
URL:https://www.siskiyoulandtrust.org/event/inaturalist-city-nature-challenge/
CATEGORIES:Community Event
ATTACH;FMTTYPE=image/png:https://www.siskiyoulandtrust.org/wp-content/uploads/2026/04/CNC_Logo_Color.png
END:VEVENT
BEGIN:VEVENT
DTSTART;TZID=America/Los_Angeles:20260429T090000
DTEND;TZID=America/Los_Angeles:20260429T120000
DTSTAMP:20260425T033132
CREATED:20260423T213502Z
LAST-MODIFIED:20260423T230922Z
UID:8814-1777453200-1777464000@www.siskiyoulandtrust.org
SUMMARY:Friends of the Meadow Volunteer Wednesdays
DESCRIPTION:Friends of the Meadow Volunteer Wednesdays\n\n\n\n\n\nJoin the California Climate Action Corp crew every Wednesday (weather permitting) from April through October to remove invasive weeds and restore native habitat in Sisson Meadow. Bring your gloves!  \n\n\n\nClick here for more info or to sign up.
URL:https://www.siskiyoulandtrust.org/event/friends-of-the-meadow-volunteer-wednesdays/
CATEGORIES:CA Climate Action Corps Event,Nature Walk Series
ATTACH;FMTTYPE=image/jpeg:https://www.siskiyoulandtrust.org/wp-content/uploads/2026/04/876ea047-bb2f-13e6-bf96-6a1e4b260042.jpg
END:VEVENT
BEGIN:VEVENT
DTSTART;TZID=America/Los_Angeles:20260505T210000
DTEND;TZID=America/Los_Angeles:20260505T223000
DTSTAMP:20260425T033132
CREATED:20260407T210938Z
LAST-MODIFIED:20260407T211228Z
UID:8738-1778014800-1778020200@www.siskiyoulandtrust.org
SUMMARY:Spring Dark Sky Tour
DESCRIPTION:Spring Dark Sky Tour\n\n\n\n(Photo by Chris Dolberg)\n\n\n\n\n\nJoin Siskiyou Land Trust and Barbara Paulson for an evening under the stars! Barbara is a local astronomy instructor who will tell us all about the skies above Siskiyou County. If you’ve never experienced the night sky under Barbara’s tutelage\, this is a can’t miss event that will be filled with wonder and our deep\, dark skies.  \n\n\n\nRegistration is required for this free event. Meeting spot will be emailed to those who register. \n\n\n\n\nClick here to register!
URL:https://www.siskiyoulandtrust.org/event/spring-dark-sky-tour-2/
CATEGORIES:Nature Walk Series
ATTACH;FMTTYPE=image/jpeg:https://www.siskiyoulandtrust.org/wp-content/uploads/2025/02/Winter-Dark-Sky-Tour-Nighttime-photo-Credit-Chris-Dolberg.jpg
ORGANIZER;CN="Laura Bradley":MAILTO:laurabradley@siskiyoulandtrust.org
END:VEVENT
BEGIN:VEVENT
DTSTART;TZID=America/Los_Angeles:20260506T090000
DTEND;TZID=America/Los_Angeles:20260506T120000
DTSTAMP:20260425T033132
CREATED:20260423T230000Z
LAST-MODIFIED:20260423T230909Z
UID:8835-1778058000-1778068800@www.siskiyoulandtrust.org
SUMMARY:Friends of the Meadow Volunteer Wednesdays
DESCRIPTION:Friends of the Meadow Volunteer Wednesdays\n\n\n\n\n\nJoin the California Climate Action Corps crew every Wednesday from 9am to noon (weather permitting) from April through October to remove invasive weeds and restore native habitat in Sisson Meadow. Bring your gloves!  \n\n\n\nClick here for more info or to sign up.
URL:https://www.siskiyoulandtrust.org/event/friends-of-the-meadow-volunteer-wednesdays-2/
CATEGORIES:CA Climate Action Corps Event,Volunteer Days
ATTACH;FMTTYPE=image/jpeg:https://www.siskiyoulandtrust.org/wp-content/uploads/2026/04/876ea047-bb2f-13e6-bf96-6a1e4b260042.jpg
END:VEVENT
BEGIN:VEVENT
DTSTART;TZID=America/Los_Angeles:20260507T170000
DTEND;TZID=America/Los_Angeles:20260507T190000
DTSTAMP:20260425T033132
CREATED:20260423T220732Z
LAST-MODIFIED:20260423T230852Z
UID:8819-1778173200-1778180400@www.siskiyoulandtrust.org
SUMMARY:Co-Leadership Meet & Greet
DESCRIPTION:Co-Leadership Meet & Greet \n\n\n\n\n\nAlexis Robertson\, Erica Harris\, and Kristin Davis are merging their expertise in a new leadership model emphasizing collaboration and organizational resiliency.\n\n\n\nAfter a thoughtful and intentional process\, our SLT Board and staff have embraced an innovative approach to leadership that prioritizes sustainability and draws on the collective wisdom and local expertise within our team. Find out more and get to know our new co-leaders over a beverage at Deadwood in downtown Mount Shasta on Thursday\, May 7\, 5-7pm.  \n\n\n\nClick here to read more about this exciting new change in our April newsletter.
URL:https://www.siskiyoulandtrust.org/event/co-leadership-meet-greet/
LOCATION:Deadwood Supply Co.\, 408 N. Mt. Shasta Blvd.\, Mount Shasta\, 96067
CATEGORIES:Community Event
ATTACH;FMTTYPE=image/webp:https://www.siskiyoulandtrust.org/wp-content/uploads/2026/04/co-leaders-group-2.webp
END:VEVENT
END:VCALENDAR