BEGIN:VCALENDAR
VERSION:2.0
PRODID:-//Siskiyou Land Trust - ECPv6.15.20//NONSGML v1.0//EN
CALSCALE:GREGORIAN
METHOD:PUBLISH
X-ORIGINAL-URL:https://www.siskiyoulandtrust.org
X-WR-CALDESC:Events for Siskiyou Land Trust
REFRESH-INTERVAL;VALUE=DURATION:PT1H
X-Robots-Tag:noindex
X-PUBLISHED-TTL:PT1H
BEGIN:VTIMEZONE
TZID:America/Los_Angeles
BEGIN:DAYLIGHT
TZOFFSETFROM:-0800
TZOFFSETTO:-0700
TZNAME:PDT
DTSTART:20240310T100000
END:DAYLIGHT
BEGIN:STANDARD
TZOFFSETFROM:-0700
TZOFFSETTO:-0800
TZNAME:PST
DTSTART:20241103T090000
END:STANDARD
BEGIN:DAYLIGHT
TZOFFSETFROM:-0800
TZOFFSETTO:-0700
TZNAME:PDT
DTSTART:20250309T100000
END:DAYLIGHT
BEGIN:STANDARD
TZOFFSETFROM:-0700
TZOFFSETTO:-0800
TZNAME:PST
DTSTART:20251102T090000
END:STANDARD
BEGIN:DAYLIGHT
TZOFFSETFROM:-0800
TZOFFSETTO:-0700
TZNAME:PDT
DTSTART:20260308T100000
END:DAYLIGHT
BEGIN:STANDARD
TZOFFSETFROM:-0700
TZOFFSETTO:-0800
TZNAME:PST
DTSTART:20261101T090000
END:STANDARD
END:VTIMEZONE
BEGIN:VEVENT
DTSTART;TZID=America/Los_Angeles:20250813T100000
DTEND;TZID=America/Los_Angeles:20250813T140000
DTSTAMP:20260421T113406
CREATED:20250806T231208Z
LAST-MODIFIED:20250806T231808Z
UID:8163-1755079200-1755093600@www.siskiyoulandtrust.org
SUMMARY:Dragonfly Nature Walk with Local Field Guide Authors
DESCRIPTION:Come explore the fascinating world of dragonflies with Kathy Biggs and Sandra von Arb\, co-authors of Dragonflies of California. Learn how to identify different species here in Siskiyou County! \nWhile dragonflies will be our main focus\, we’ll also be looking at birds\, butterflies and wildflowers. Joining us will be local bird experts Bob and Patti Claypole and local botany expert Bev Kenney. \nUse this link to sign up: https://forms.gle/yczdiPvZjAJHmHeCA \nFor more information\, email SLT’s Stewardship Manager\, Laura Bradley at laurabradley@siskiyoulandtrust.org.
URL:https://www.siskiyoulandtrust.org/event/dragonfly-nature-walk/
CATEGORIES:Nature Walk Series
ATTACH;FMTTYPE=image/jpeg:https://www.siskiyoulandtrust.org/wp-content/uploads/2025/08/Twelve-spotted-skimmer-dragonfly-S.-Huckabone.jpg
ORGANIZER;CN="Laura Bradley":MAILTO:laurabradley@siskiyoulandtrust.org
END:VEVENT
END:VCALENDAR