BEGIN:VCALENDAR
VERSION:2.0
PRODID:-//Siskiyou Land Trust - ECPv6.15.20//NONSGML v1.0//EN
CALSCALE:GREGORIAN
METHOD:PUBLISH
X-WR-CALNAME:Siskiyou Land Trust
X-ORIGINAL-URL:https://www.siskiyoulandtrust.org
X-WR-CALDESC:Events for Siskiyou Land Trust
REFRESH-INTERVAL;VALUE=DURATION:PT1H
X-Robots-Tag:noindex
X-PUBLISHED-TTL:PT1H
BEGIN:VTIMEZONE
TZID:America/Los_Angeles
BEGIN:DAYLIGHT
TZOFFSETFROM:-0800
TZOFFSETTO:-0700
TZNAME:PDT
DTSTART:20240310T100000
END:DAYLIGHT
BEGIN:STANDARD
TZOFFSETFROM:-0700
TZOFFSETTO:-0800
TZNAME:PST
DTSTART:20241103T090000
END:STANDARD
BEGIN:DAYLIGHT
TZOFFSETFROM:-0800
TZOFFSETTO:-0700
TZNAME:PDT
DTSTART:20250309T100000
END:DAYLIGHT
BEGIN:STANDARD
TZOFFSETFROM:-0700
TZOFFSETTO:-0800
TZNAME:PST
DTSTART:20251102T090000
END:STANDARD
BEGIN:DAYLIGHT
TZOFFSETFROM:-0800
TZOFFSETTO:-0700
TZNAME:PDT
DTSTART:20260308T100000
END:DAYLIGHT
BEGIN:STANDARD
TZOFFSETFROM:-0700
TZOFFSETTO:-0800
TZNAME:PST
DTSTART:20261101T090000
END:STANDARD
END:VTIMEZONE
BEGIN:VEVENT
DTSTART;TZID=America/Los_Angeles:20251117T100000
DTEND;TZID=America/Los_Angeles:20251117T130000
DTSTAMP:20260420T203210
CREATED:20251105T010933Z
LAST-MODIFIED:20251106T192842Z
UID:8485-1763373600-1763384400@www.siskiyoulandtrust.org
SUMMARY:Mushroom Walk in Mount Shasta
DESCRIPTION:Join Siskiyou Land Trust and local mushroom expert Aaron Cena for a mushroom walk in Mount Shasta. Aaron is a highly knowledgeable mushroom guide and will lead us on an informative walk to identify as many local mushrooms as we can find! \n\n\n\nPrepare for ~2 miles with some off trail walking. \n\n\n\nClick here to register!
URL:https://www.siskiyoulandtrust.org/event/mushroom-walk-in-mount-shasta/
CATEGORIES:Nature Walk Series
ATTACH;FMTTYPE=image/jpeg:https://www.siskiyoulandtrust.org/wp-content/uploads/2025/11/mushrooms-in-autumn-sm2.jpg
END:VEVENT
END:VCALENDAR