BEGIN:VCALENDAR
VERSION:2.0
PRODID:-//Siskiyou Land Trust - ECPv6.15.20//NONSGML v1.0//EN
CALSCALE:GREGORIAN
METHOD:PUBLISH
X-ORIGINAL-URL:https://www.siskiyoulandtrust.org
X-WR-CALDESC:Events for Siskiyou Land Trust
REFRESH-INTERVAL;VALUE=DURATION:PT1H
X-Robots-Tag:noindex
X-PUBLISHED-TTL:PT1H
BEGIN:VTIMEZONE
TZID:America/Los_Angeles
BEGIN:DAYLIGHT
TZOFFSETFROM:-0800
TZOFFSETTO:-0700
TZNAME:PDT
DTSTART:20240310T100000
END:DAYLIGHT
BEGIN:STANDARD
TZOFFSETFROM:-0700
TZOFFSETTO:-0800
TZNAME:PST
DTSTART:20241103T090000
END:STANDARD
BEGIN:DAYLIGHT
TZOFFSETFROM:-0800
TZOFFSETTO:-0700
TZNAME:PDT
DTSTART:20250309T100000
END:DAYLIGHT
BEGIN:STANDARD
TZOFFSETFROM:-0700
TZOFFSETTO:-0800
TZNAME:PST
DTSTART:20251102T090000
END:STANDARD
BEGIN:DAYLIGHT
TZOFFSETFROM:-0800
TZOFFSETTO:-0700
TZNAME:PDT
DTSTART:20260308T100000
END:DAYLIGHT
BEGIN:STANDARD
TZOFFSETFROM:-0700
TZOFFSETTO:-0800
TZNAME:PST
DTSTART:20261101T090000
END:STANDARD
BEGIN:DAYLIGHT
TZOFFSETFROM:-0800
TZOFFSETTO:-0700
TZNAME:PDT
DTSTART:20270314T100000
END:DAYLIGHT
BEGIN:STANDARD
TZOFFSETFROM:-0700
TZOFFSETTO:-0800
TZNAME:PST
DTSTART:20271107T090000
END:STANDARD
END:VTIMEZONE
BEGIN:VEVENT
DTSTART;TZID=America/Los_Angeles:20260320T160000
DTEND;TZID=America/Los_Angeles:20260320T180000
DTSTAMP:20260420T095034
CREATED:20260303T201419Z
LAST-MODIFIED:20260303T202056Z
UID:8715-1774022400-1774029600@www.siskiyoulandtrust.org
SUMMARY:Celebrate with Us!
DESCRIPTION:Join Siskiyou Land Trust for an Accreditation Celebration at Redwood GalleryFriday\, March 20th 4pm-6pm209 N Mt Shasta Blvd \n\n\n\nHave you heard the news?!  After a rigorous verification process by the Land Trust Accreditation Commission\, the national accrediting body for land trusts\, Siskiyou Land Trust has been awarded accreditation. This national recognition demonstrates our commitment to professional excellence and to maintaining the public’s trust in our work. So\, let’s celebrate! Join us at Redwood Gallery\, where 2% of the sales of their local art goes to protecting the places that inspire us all. We’ll be popping bubbles and sharing cake\, so stop by for a toast and a treat in honor of lasting\, trusted conservation\, and the hard work of the SLT staff\, Board\, and volunteers that helped Siskiyou Land Trust achieve this milestone. \n\n\n\nNo registration is required for this free event. 
URL:https://www.siskiyoulandtrust.org/event/celebrate-with-us/
LOCATION:Redwood Gallery\, 209 N. Mt. Shasta Blvd.\, Mount Shasta
CATEGORIES:Community Event
ATTACH;FMTTYPE=image/webp:https://www.siskiyoulandtrust.org/wp-content/uploads/2026/03/newsletter-edits-5-2.webp
END:VEVENT
BEGIN:VEVENT
DTSTART;TZID=America/Los_Angeles:20251202T000000
DTEND;TZID=America/Los_Angeles:20251202T235959
DTSTAMP:20260420T095034
CREATED:20251104T232331Z
LAST-MODIFIED:20251118T005255Z
UID:8470-1764633600-1764719999@www.siskiyoulandtrust.org
SUMMARY:Giving Tuesday\, Dec. 2. Join the Global Movement... Locally.
DESCRIPTION:Giving Tuesday is a Global Day of Generosity empowering people to make lasting change right where they are… together. Each year\, we look forward to gathering with our community to celebrate its generosity of spirit. \n\n\n\nRedwood Gallery at 209 N. Mount Shasta Blvd\, in downtown Mt. Shasta (who donates 2% of sales to SLT!) will host us and our friends at Mt. Shasta Trail Association on Tuesday\, December 2\, 4pm-7pm. Join us for drinks and snacks in one of the most beautiful spaces on Mount Shasta Blvd!  \n\n\n\nYour contribution to Siskiyou Land Trust helps us heed the call\, both from the land and from the community\, to protect the places we love. \n\n\n\nEach dollar goes a long way to conserve habitat\, waterways and open skies… forever. \n\n\n\nVisit our NorthStateGives.org listing to donate. Early Giving begins November 18.
URL:https://www.siskiyoulandtrust.org/event/giving-tuesday/
CATEGORIES:Community Event,Community Fundraisers
ATTACH;FMTTYPE=image/webp:https://www.siskiyoulandtrust.org/wp-content/uploads/2025/11/NSGT-basic.webp
END:VEVENT
BEGIN:VEVENT
DTSTART;TZID=America/Los_Angeles:20251115T140000
DTEND;TZID=America/Los_Angeles:20251115T160000
DTSTAMP:20260420T095034
CREATED:20250822T173614Z
LAST-MODIFIED:20251022T193950Z
UID:8136-1763215200-1763222400@www.siskiyoulandtrust.org
SUMMARY:2025 Annual Meeting
DESCRIPTION:Save the date for Siskiyou Land Trust’s 2025 Annual Meeting! We can’t wait to welcome you to the Weed Community Center 161 E Lincoln Ave\, Weed\, CA 96094. Join us on November 15th from 2pm-4pm for land trust updates\, awards\, refreshments\, and a community conservation celebration.\nClick here to RSVP!
URL:https://www.siskiyoulandtrust.org/event/2025-annual-meeting/
LOCATION:Weed Community Center\, 161 E. Lincoln Ave\, Weed\, CA\, 96094
CATEGORIES:Community Event
ATTACH;FMTTYPE=image/jpeg:https://www.siskiyoulandtrust.org/wp-content/uploads/2025/07/7.29.25-e-news-e1755884004140.jpg
ORGANIZER;CN="Siskiyou Land Trust":MAILTO:admin@siskiyoulandtrust.org
END:VEVENT
BEGIN:VEVENT
DTSTART;TZID=America/Los_Angeles:20250913T090000
DTEND;TZID=America/Los_Angeles:20250913T120000
DTSTAMP:20260420T095034
CREATED:20250821T234709Z
LAST-MODIFIED:20250821T234709Z
UID:8207-1757754000-1757764800@www.siskiyoulandtrust.org
SUMMARY:California Biodiversity Week Wrap-up & Celebration: Bioblitz & BBQ
DESCRIPTION:Saturday\, September 13th from 9am-12pm at Luginbuhl Ranch\, 2100 Deetz Rd.\, Mount Shasta\, CA \nJoin Siskiyou Land Trust and the Mount Shasta Bioregional Ecology Center for a day of exploration at SLT’s Luginbuhl Ranch Preserve\, a 320-acre property at the intersection of the Upper Sacramento and Shasta River headwaters. This headwaters forest is not just a piece of property though – it is a living legacy of local conservation and stewardship. We’ll enjoy guided walks by SLT staff and interpreters followed by a continuation of our bioblitz\, cataloging species on iNaturalist. At noon\, we’ll meet back at the Luginbuhl Cottage for a small BBQ (hot dogs/burgers/veggie options and their fixings). We’ll walk about one mile. \nParking space at Luginbuhl is limited and we encourage carpooling. Additional parking and carpool details will be provided to registrants prior to the event. Minors will need to be accompanied by a parent or guardian. \nRegistration is required to attend. Please register here: https://mountshastaecology.org/upcoming-community-events-2/
URL:https://www.siskiyoulandtrust.org/event/california-biodiversity-week-wrap-up-celebration-bioblitz-bbq/
LOCATION:Mount Shasta CA
CATEGORIES:Community Event,Nature Walk Series
ATTACH;FMTTYPE=image/jpeg:https://www.siskiyoulandtrust.org/wp-content/uploads/2025/08/Luginbuhl-Michael-Stapleton.jpg
END:VEVENT
BEGIN:VEVENT
DTSTART;TZID=America/Los_Angeles:20250906T103000
DTEND;TZID=America/Los_Angeles:20250906T140000
DTSTAMP:20260420T095034
CREATED:20250821T232935Z
LAST-MODIFIED:20250821T234928Z
UID:8161-1757154600-1757167200@www.siskiyoulandtrust.org
SUMMARY:Friends & Family Nature Walk: California Biodiversity Day
DESCRIPTION:Sensing the Seasons Summer Edition & Bioblitz \nSaturday\, September 6th from 10:30-2pm in Sáttítla Highlands National Monument (Medicine Lake Highlands – Little Mount Hoffman\, Medicine Lake & Payne’s Spring) \nJoin the Mount Shasta Bioregional Ecology Center and the Siskiyou Land Trust for a day of exploration in the Sáttítla Highlands National Monument. We’ll start at Little Mount Hoffman with a sensory nature walk and nature journaling at the top and on the way down\, we’ll begin our bioblitz\, cataloging species on iNaturalist. Then we’ll stop for lunch and an optional swim at Medicine Lake\, before ending with a bioblitz and final nature walk at Payne Springs. Carpooling and caravanning from McCloud available. \nPlease register for more details and carpool info: https://mountshastaecology.org/ca-biodiversity-week-2025
URL:https://www.siskiyoulandtrust.org/event/friends-family-nature-walk-california-biodiversity-day/
LOCATION:Sattitla Highlands National Monument
CATEGORIES:Community Event,Nature Walk Series
ATTACH;FMTTYPE=image/jpeg:https://www.siskiyoulandtrust.org/wp-content/uploads/2025/08/Medicine-Lake-Public-Domain-photo.jpg
END:VEVENT
BEGIN:VEVENT
DTSTART;TZID=America/Los_Angeles:20250904T180000
DTEND;TZID=America/Los_Angeles:20250904T190000
DTSTAMP:20260420T095034
CREATED:20250821T230209Z
LAST-MODIFIED:20250821T230627Z
UID:8155-1757008800-1757012400@www.siskiyoulandtrust.org
SUMMARY:Citizen Science Workshop
DESCRIPTION:Siskiyou Land Trust and Mount Shasta Bioregional Ecology Center are co-hosting a citizen science workshop on how to use field guides\, iNaturalist and CalScape. The workshop will be held on Thursday\, September 4th from 6-7pm at the Mount Shasta Public Library. We’ll lead a presentation inside the library and then explore using books and apps outside in Sisson Meadow. You’ll learn everything you need to know to start exploring our beautiful landscapes and to be ready for California’s Biodiversity Week and our upcoming bioblitz! Bring your smartphone and if you’d like\, your favorite field guides for the area. We will have some field guides available for use during the program. \n\n\nRegister here: https://mountshastaecology.org/ca-biodiversity-week-2025
URL:https://www.siskiyoulandtrust.org/event/citizen-science-workshop/
LOCATION:Mount Shasta Public Library\, 515 E. Alma St.\, Mount Shasta
CATEGORIES:Community Event,Nature Walk Series
ATTACH;FMTTYPE=image/jpeg:https://www.siskiyoulandtrust.org/wp-content/uploads/2025/08/IMG_20250821_154914765_HDR.jpg
ORGANIZER;CN="Siskiyou Land Trust":MAILTO:admin@siskiyoulandtrust.org
END:VEVENT
BEGIN:VEVENT
DTSTART;TZID=America/Los_Angeles:20250823T160000
DTEND;TZID=America/Los_Angeles:20250823T180000
DTSTAMP:20260420T095034
CREATED:20250807T195459Z
LAST-MODIFIED:20250807T203649Z
UID:8171-1755964800-1755972000@www.siskiyoulandtrust.org
SUMMARY:Planning a Native Garden
DESCRIPTION:Please join us on Saturday afternoon\, August 23 from 4-6pm at Dan and Lindy Fay’s home in McCloud to learn about their plans for a public\, native garden in downtown McCloud.  Laura Bradley\, wildlife biologist and native plant enthusiast\, will be there to talk about the role of native plants and to share some easily identifiable examples. \nClick here to sign up. Address will be emailed to you after you sign up. \n 
URL:https://www.siskiyoulandtrust.org/event/planning-a-native-garden/
LOCATION:McCloud\, CA
CATEGORIES:Community Event
ATTACH;FMTTYPE=image/jpeg:https://www.siskiyoulandtrust.org/wp-content/uploads/2025/08/fritallaires-on-coyote-mint-e1754593800381.jpg
ORGANIZER;CN="Laura Bradley":MAILTO:laurabradley@siskiyoulandtrust.org
END:VEVENT
BEGIN:VEVENT
DTSTART;TZID=America/Los_Angeles:20250620T160000
DTEND;TZID=America/Los_Angeles:20250620T180000
DTSTAMP:20260420T095034
CREATED:20250218T205935Z
LAST-MODIFIED:20250617T185654Z
UID:7605-1750435200-1750442400@www.siskiyoulandtrust.org
SUMMARY:2025 Summer Solstice Celebration
DESCRIPTION:Save the Date! \nAt Summer Solstice\, the sun travels its highest path in the sky\, marking the longest\, brightest day of the year. Join Siskiyou Land Trust Board\, staff\, and community to celebrate at Luginbuhl Ranch Preserve.  Help us honor the guiding lights of the Land Trust\, including Kathleen Hitt\, who will be stepping away from her role at SLT after 15 trailblazing years. There will be sips\, snacks\, good company\, and time around the fire. Join us June 20th from 4pm-6pm for a toast to the start of Summer in Northern California.\n\nPlease RSVP at this link: https://www.eventbrite.com/e/1400500708319?aff=oddtdtcreator. \, or by contacting the office at (530) 926-2259 or by email to admin@siskiyoulandtrust.org .\n\nWe look forward to seeing you there!\n\nWhen: Friday\, June 20\, 2025\n\nWhere: Luginbuhl Ranch Preserve\, 2100 Deetz Rd.\, Mount Shasta\, CA 96067
URL:https://www.siskiyoulandtrust.org/event/summersolstice25/
LOCATION:Luginbuhl Headwaters Preserve\, 2100 Deetz Rd\, Mt Shasta\, CA\, 96067
CATEGORIES:Community Event,Community Fundraisers,Volunteer Days
ATTACH;FMTTYPE=image/jpeg:https://www.siskiyoulandtrust.org/wp-content/uploads/2024/08/LuginBuhl-Ranch-Summer-2024-header-image.jpg
ORGANIZER;CN="Siskiyou Land Trust":MAILTO:admin@siskiyoulandtrust.org
END:VEVENT
BEGIN:VEVENT
DTSTART;TZID=America/Los_Angeles:20250518T090000
DTEND;TZID=America/Los_Angeles:20250518T130000
DTSTAMP:20260420T095034
CREATED:20250502T235226Z
LAST-MODIFIED:20250502T235227Z
UID:7986-1747558800-1747573200@www.siskiyoulandtrust.org
SUMMARY:Mt. Shasta Community Weed Pull
DESCRIPTION:Help protect native plants in Mt. Shasta by joining the Community Weed Pull on Sunday\, May 18th. \nWe’ll meet at the Sisson School cafeteria\, 595 E. Alma St.\, Mt. Shasta\, at 9am. Light refreshments will be served. \nPlease bring your own gloves\, water bottle and personally marked tools. Long pants\, sleeves & sturdy shoes are recommended. \nFor more information\, please contact MountShastaAudubon@gmail.com. We’d love to have you join us! \n 
URL:https://www.siskiyoulandtrust.org/event/mt-shasta-community-weed-pull/
LOCATION:Sisson School\, 595 E. Alma St.\, Mt. Shasta\, CA\, 96067
CATEGORIES:Community Event,Volunteer Days
ATTACH;FMTTYPE=image/jpeg:https://www.siskiyoulandtrust.org/wp-content/uploads/2024/08/Sisson-Meadow-Weed-Pull-July-24.jpg
ORGANIZER;CN="Mount Shasta Audubon Society":MAILTO:MountShastaAudubon@gmail.com
END:VEVENT
BEGIN:VEVENT
DTSTART;TZID=America/Los_Angeles:20250510T080000
DTEND;TZID=America/Los_Angeles:20250510T120000
DTSTAMP:20260420T095034
CREATED:20250502T233005Z
LAST-MODIFIED:20250502T233007Z
UID:7981-1746864000-1746878400@www.siskiyoulandtrust.org
SUMMARY:Celebration of World Migratory Bird Day
DESCRIPTION:World Migratory Bird Day is coming up on Saturday\, May 10th! The conservation theme this year is Shared Spaces: Creating Bird-Friendly Cities and Communities.  \nTo celebrate\, come join one of TWO Siskiyou County bird watching events led by local bird experts.  One will be in Yreka and one will be in Mt. Shasta. Attendees are encouraged to bring binoculars\, spotting scopes and field guides. These events are free and open to all ages. \n\nThe first will be at Greenhorn Park in Yreka from 8:00am-11:00a.m. Participants are asked to meet at the upper parking lot. For more information email SM.FS.klamathinfo@usda.go or call (530) 842-6131 \nThe second will be at Lake Siskiyou’s North Shore from 9:30am-12:00pm. Sign-ups for the Mt. Shasta event are requested here: https://mountshastaecology.org/upcoming-community-events-2/ or email kaylamarie@mountshastaecology.org for more info. \nThank you to our partners at the USFS\, Siskiyou Land Trust and Mt. Shasta Bioregional Ecology Center and to all of our trip leaders!
URL:https://www.siskiyoulandtrust.org/event/migratory-bird-day-bird-watching/
CATEGORIES:Community Event,Nature Walk Series
ATTACH;FMTTYPE=image/jpeg:https://www.siskiyoulandtrust.org/wp-content/uploads/2025/03/acorn-woodpecker-turtlebay25-e1746228523692.jpg
END:VEVENT
BEGIN:VEVENT
DTSTART;TZID=America/Los_Angeles:20250329T100000
DTEND;TZID=America/Los_Angeles:20250329T130000
DTSTAMP:20260420T095034
CREATED:20250304T205551Z
LAST-MODIFIED:20250324T211055Z
UID:7672-1743242400-1743253200@www.siskiyoulandtrust.org
SUMMARY:Compost Bin Building Workshop
DESCRIPTION:Call for Volunteers! Join Siskiyou Land Trust and CA Climate Action Corps fellows at the SLT Garden on March 29 from 10am-1pm to learn and help transform our compost bin into a 3-bin system. We’ll need some extra hands on deck to assemble it. Tools will be provided but volunteers are welcome to bring their own if preferred. Volunteers are invited to help us build\, or are free to sit back\, observe\, and absorb the process. \nOur goal is to revamp the current compost bin to bring it back to function. We would like to create a space where community members can bring their food scraps to be processed into compost\, especially if they’re not able to compost at home. \nVolunteers will be assisting in leveling ground\, cutting wood\, and assembling pieces to bring the compost area back to life. For those who aren’t as physically able\, they can observe\, learn and give encouraging support. \n\nWe’re excited to get the compost bin back in operation and grateful for your help as we do so.\n\n\n\nSign up to volunteer or attend here  https://x.gldn.io/e/dz3wzCKkOQb\n\nWe hope to see you!
URL:https://www.siskiyoulandtrust.org/event/compost-bin-workshop/
LOCATION:SLT Garden\, 522 E Alma St\, Mt Shasta\, CA\, 96067
CATEGORIES:CA Climate Action Corps Event,Community Event,Volunteer Days
ATTACH;FMTTYPE=image/jpeg:https://www.siskiyoulandtrust.org/wp-content/uploads/2025/03/compost.jpg
ORGANIZER;CN="CA Climate Action Corps":MAILTO:erinsolloway@siskiyoulandtrust.org
END:VEVENT
END:VCALENDAR