BEGIN:VCALENDAR
VERSION:2.0
PRODID:-//Siskiyou Land Trust - ECPv6.15.20//NONSGML v1.0//EN
CALSCALE:GREGORIAN
METHOD:PUBLISH
X-WR-CALNAME:Siskiyou Land Trust
X-ORIGINAL-URL:https://www.siskiyoulandtrust.org
X-WR-CALDESC:Events for Siskiyou Land Trust
REFRESH-INTERVAL;VALUE=DURATION:PT1H
X-Robots-Tag:noindex
X-PUBLISHED-TTL:PT1H
BEGIN:VTIMEZONE
TZID:America/Los_Angeles
BEGIN:DAYLIGHT
TZOFFSETFROM:-0800
TZOFFSETTO:-0700
TZNAME:PDT
DTSTART:20230312T100000
END:DAYLIGHT
BEGIN:STANDARD
TZOFFSETFROM:-0700
TZOFFSETTO:-0800
TZNAME:PST
DTSTART:20231105T090000
END:STANDARD
BEGIN:DAYLIGHT
TZOFFSETFROM:-0800
TZOFFSETTO:-0700
TZNAME:PDT
DTSTART:20240310T100000
END:DAYLIGHT
BEGIN:STANDARD
TZOFFSETFROM:-0700
TZOFFSETTO:-0800
TZNAME:PST
DTSTART:20241103T090000
END:STANDARD
BEGIN:DAYLIGHT
TZOFFSETFROM:-0800
TZOFFSETTO:-0700
TZNAME:PDT
DTSTART:20250309T100000
END:DAYLIGHT
BEGIN:STANDARD
TZOFFSETFROM:-0700
TZOFFSETTO:-0800
TZNAME:PST
DTSTART:20251102T090000
END:STANDARD
END:VTIMEZONE
BEGIN:VEVENT
DTSTART;TZID=America/Los_Angeles:20241005T140000
DTEND;TZID=America/Los_Angeles:20241005T160000
DTSTAMP:20260422T150656
CREATED:20240813T195309Z
LAST-MODIFIED:20241003T152304Z
UID:7011-1728136800-1728144000@www.siskiyoulandtrust.org
SUMMARY:Annual Meeting and Community Gathering
DESCRIPTION:You’re invited to Siskiyou Land Trust’s Annual Meeting and Community Gathering\n\nSaturday\, October 5\, 2024\n2:00 -4:00 pm\nLuginBuhl Ranch Preserve\n2100 Deetz Road\, Mount Shasta\n\n\n\nRSVP at www.siskiyoulandtrust.org/annualevent2024\n\n\n\nTaco Truck\, SLT T-shirts and Kleen Kanteen cups!\n\nTacostao2 will be selling authentic Mexican food and sodas***\n\nSLT will be selling $20 t-shirts featuring the native CA Cobra Lily (aka pitcher plant). Purchase a shirt between 2-3pm at the event for entry in a raffle to win 2-nights of camping at Luginbuhl Preserve! Winner will be announced before 4pm at the event. Must be present to win.\n\n\n\n\n\nEntry is free. Donate $20 to receive a Siskiyou Land Trust Kleen Kanteen cup filled with a beverage of your choice. Beer and cider will be available without a cup (or for refills) for $5. Water refill stations and sparkling water will be available at no cost.\n\n\n\n*** Cash is preferred in the event of low cell reception ***\n\n\nBring a chair or blanket\, a picnic (or cash for the taco truck)\, and join us for this family friendly event! Help us keep this event low-waste by bringing your own water bottle.\n\n\n\nWe ask that you please leave dogs and pets at home\, they will not be allowed onto the property. Trained service animals are welcome.\n\n\nWe look forward to seeing you there  \n\nRSVP at at www.siskiyoulandtrust.org/annualevent2024 or by email to admin@siskiyoulandtrust.org \n 
URL:https://www.siskiyoulandtrust.org/event/annual-meeting/
CATEGORIES:Annual Meeting
ATTACH;FMTTYPE=image/jpeg:https://www.siskiyoulandtrust.org/wp-content/uploads/2024/08/Oct-5-Annual-Event.jpg
ORGANIZER;CN="Siskiyou Land Trust":MAILTO:admin@siskiyoulandtrust.org
END:VEVENT
END:VCALENDAR